{"text_format":"1","workbook":"xlsx","n_sheets":5,"sheets":["SBS","MemCalculo","Uniforme","Produto","Equipamento"],"not_rendered":{"charts":0,"images":687,"macros":0,"external_links":1,"defined_names":0,"comments":1,"pivot_tables":0},"unopened":[],"bounds":{"document_bytes":16777216,"sheet_cells":100000,"rows_first":2000,"rows_last":500,"rows_between":2000,"halvings":0,"cell_chars":16384,"cell_head_chars":4096},"cells_cut":0,"cells_raw":0,"read":"whole","date_system":"1900"}

{"sheet":"SBS","index":0,"n_rows":230,"n_cols":8,"rows_kept":230,"cut":false,"hidden":false,"merged":[[0,0,0,7],[2,2,2,4],[3,2,3,4],[9,2,9,4],[10,2,10,4],[11,2,11,4],[12,2,12,4],[15,1,15,4],[16,1,16,3],[17,1,17,3],[18,1,18,3],[19,1,19,3],[20,1,20,3],[21,1,21,3],[23,0,23,7],[126,0,126,5],[138,0,138,7],[145,0,145,7],[153,2,153,3],[154,1,155,1],[154,2,155,2],[157,1,158,1],[157,2,158,2],[160,1,161,1],[160,2,161,2],[163,1,164,1],[163,2,164,2],[166,1,167,1],[166,2,167,2],[169,1,170,1],[169,2,170,2],[172,1,173,1],[172,2,173,2],[175,1,176,1],[175,2,176,2],[178,1,179,1],[178,2,179,2],[181,1,182,1],[181,2,182,2],[184,1,185,1],[184,2,185,2],[187,1,188,1],[187,2,188,2],[190,1,191,1],[190,2,191,2],[193,1,194,1],[193,2,194,2],[196,2,196,3],[197,1,198,1],[197,2,198,2],[200,1,201,1],[200,2,201,2],[203,1,204,1],[203,2,204,2],[206,1,207,1],[206,2,207,2]]}
["Planilha de Custo e Formação de Preço Oficial"]
[]
[null,"Número do processo","23474.000066/2021-61"]
[null,"Licitação nº","025/2021"]
[]
[null,"Dia 23/03/2021 às 09:00 horas"]
[]
[null,"Discriminação dos Serviços (dados referentes à contratação)"]
[]
["A","Data de apreciação da proposta (dia/mês/ano)"]
["B","Município/DF","São Bento do Sul/SC"]
["C","CCT","SC000148/2021 – Jaraguá do Sul e Região"]
["D","Nº de meses de execução contratual",12]
[]
[null,"Identificação do serviço"]
[null,"Servente de limpeza"]
[null,"Posto de serviço:",null,null,4]
[null,"Nº de empregados:",null,null,4]
[null,"Nº de dias trabalhados:",null,null,22]
[null,"Carga horária semanal:",null,null,44]
[null,"Valor vale transporte",null,null,4.75]
[null,"Valor auxílio alimentação:",null,null,18.23]
[]
["Dados para composição dos custos referentes a mão de obra"]
[]
[1,"Tipo de serviço",null,null,"Servente","Servente c/ risco"]
[2,"Classificação Brasileira de Ocupações (CBO)",null,null,"5143-20","5143-20"]
[3,"Salário normativo da categoria profissional",null,null,1222.93,1222.93]
[4,"Categoria profissional"]
[5,"Data base da categoria",null,null,"2021-01-01","2021-01-01"]
[]
[null,"Módulo 1 - Composição da remuneração"]
[1,"Composição da remuneração",null,"%","Valor (R$)","Valor (R$)"]
["A","Salário base",null,null,{"$f":"E28","v":1222.93},{"$f":"F28","v":1222.93}]
["B","Adicional de periculosidade",null,0.3,0,{"$f":"F34*D35","v":366.879}]
["C","Adicional de insalubridade",null,0.2,{"$f":"E34*D36","v":244.586},0]
["D","Adicional noturno",null,null,0,0]
["E","Adicional de hora noturna reduzida",null,null,0,0]
["F","Outros (especificar)",null,null,0,0]
[null,"Total",null,null,{"$f":"SUM(E34:E39)","v":1467.516},{"$f":"SUM(F34:F39)","v":1589.809}]
[]
[null,"Módulo 2 – Encargos e benefícios anuais, mensais e diários"]
[null,"Submódulo 2.1 – 13º (décimo terceiro) salário, férias e adicional de férias"]
["2.1","13º (décimo terceiro) salário, férias e adicional de férias",null,"%","Valor (R$)","Valor (R$)"]
["A","13º (décimo terceiro) salário",null,0.0833,{"$f":"E40*D45","v":122.2440828},{"$f":"F40*D45","v":132.4310897}]
["B","Férias e adicional de férias",null,0.1111,{"$f":"E45*D46","v":13.58131759908},{"$f":"F45*D46","v":14.71309406567}]
[null,"Total",null,null,{"$f":"SUM(E45:E46)","v":135.82540039908},{"$f":"SUM(F45:F46)","v":147.14418376567}]
[]
[null,"Submódulo 2.2 – Encargos previdenciários (GPS), fundo de garantia por tempo de serviços (FGTS) e outras contribuições"]
["2.2","GPS, FGTS e outras contribuições",null,"%","Valor (R$)","Valor (R$)"]
["A","INSS",null,0.2,{"$f":"($E$40+$E$47)*D51","v":320.668280079816},{"$f":"($F$40+$F$47)*D51","v":347.390636753134}]
["B","Salário educação",null,0.025,{"$f":"($E$40+$E$47)*D52","v":40.083535009977},{"$f":"($F$40+$F$47)*D52","v":43.4238295941418}]
["C","SAT",null,0.0496,{"$f":"($E$40+$E$47)*D53","v":79.5257334597944},{"$f":"($F$40+$F$47)*D53","v":86.1528779147772}]
["D","SESC ou SESI",null,0.015,{"$f":"($E$40+$E$47)*D54","v":24.0501210059862},{"$f":"($F$40+$F$47)*D54","v":26.0542977564851}]
["E","SENAI – SENAC",null,0.01,{"$f":"($E$40+$E$47)*D55","v":16.0334140039908},{"$f":"($F$40+$F$47)*D55","v":17.3695318376567}]
["F","SEBRAE",null,0.006,{"$f":"($E$40+$E$47)*D56","v":9.62004840239448},{"$f":"($F$40+$F$47)*D56","v":10.421719102594}]
["G","INCRA",null,0.002,{"$f":"($E$40+$E$47)*D57","v":3.20668280079816},{"$f":"($F$40+$F$47)*D57","v":3.47390636753134}]
["H","FGTS",null,0.08,{"$f":"($E$40+$E$47)*D58","v":128.267312031926},{"$f":"($F$40+$F$47)*D58","v":138.956254701254}]
[null,"Total",null,{"$f":"SUM(D51:D58)","v":0.3876},{"$f":"SUM(E51:E58)","v":621.455126794684},{"$f":"SUM(F51:F58)","v":673.243054027574}]
[]
[null,"Submódulo 2.3 – Benefícios mensais e diários"]
["2.3","Benefícios mensais e diários",null,"%","Valor (R$)","Valor (R$)"]
["A","Transporte",null,{"$f":"E21","v":4.75},{"$f":"IF(E21=0,0,((E19*2)*E21)-(E34*0.06))","v":135.6242},{"$f":"IF(E21=0,0,((E19*2)*E21)-(F34*0.06))","v":135.6242}]
["B","Auxílio-refeição/alimentação",null,{"$f":"E22","v":18.23},{"$f":"(E19*E22)-(E19*E22*0.01)","v":397.0494},{"$f":"(E19*E22)-(E19*E22*0.01)","v":397.0494}]
["C","Contribuição sindical patronal",null,0.01,{"$f":"(E28+E36)*$D$65","v":14.67516},{"$f":"(F28+F36)*$D$65","v":12.2293}]
["D","Contribuição sindical laboral",null,11,{"$f":"D66","v":11},{"$f":"D66","v":11}]
["D.1","Prêmio assiduidade",null,0.05,{"$f":"E40*D67","v":73.3758},{"$f":"F40*D67","v":79.49045}]
[null,"Total",null,null,{"$f":"SUM(E63:E67)","v":631.72456},{"$f":"SUM(F63:F67)","v":635.39335}]
[]
[null,"Quadro-resumo do módulo 2 – Encargos e benefícios anuais, mensais e diários"]
[2,"Encargos e benefícios anuais, mensais e diários",null,"%","Valor (R$)","Valor (R$)"]
["2.1","13º (décimo terceiro) salário, férias e adicional de férias",null,null,{"$f":"E47","v":135.82540039908},{"$f":"F47","v":147.14418376567}]
["2.2","GPS, FGTS e outras contribuições",null,null,{"$f":"E59","v":621.455126794684},{"$f":"F59","v":673.243054027574}]
["2.3","Benefícios mensais e diários",null,null,{"$f":"E68","v":631.72456},{"$f":"F68","v":635.39335}]
[null,"Total",null,null,{"$f":"SUM(E72:E74)","v":1389.00508719376},{"$f":"SUM(F72:F74)","v":1455.78058779324}]
[]
[null,"Módulo 3 – Provisão para rescisão"]
[3,"Provisão para rescisão",null,"%","Valor (R$)","Valor (R$)"]
["A","Aviso prévio indenizado",null,0.0042,{"$f":"E40*D79","v":6.1635672},{"$f":"F40*D79","v":6.6771978}]
["B","Incidência do FGTS sobre o aviso prévio indenizado",null,0.000333,{"$f":"E40*D80","v":0.488682828},{"$f":"F40*D80","v":0.529406397}]
["C","Multa do FGTS e contribuição social sobre o aviso prévio indenizado",null,0.0016,{"$f":"E40*D81","v":2.3480256},{"$f":"F40*D81","v":2.5436944}]
["D","Aviso prévio trabalhado",null,0.0185,{"$f":"E40*D82","v":27.149046},{"$f":"F40*D82","v":29.4114665}]
["E","Incidência de GPS, FGTS e outras contribuições sobre o aviso prévio trabalhado",null,{"$f":"D59","v":0.3876},{"$f":"E82*D83","v":10.5229702296},{"$f":"F82*D83","v":11.3998844154}]
["F","Multa do FGTS e contribuição social sobre o aviso prévio trabalhado",null,0.0304,{"$f":"E40*D84","v":44.6124864},{"$f":"F40*D84","v":48.3301936}]
[null,"Total",null,null,{"$f":"SUM(E79:E84)","v":91.2847782576},{"$f":"SUM(F79:F84)","v":98.8918431124}]
[]
[null,"Módulo 4 – Custo de reposição do profissional ausente"]
[null,"Submódulo 4.1 – Substituto nas ausências legais"]
["4.1","Composição do custo de reposição do profissional ausente",null,"%","Valor (R$)","Valor (R$)"]
["A","Substituto na cobertura de férias",null,0.0833,{"$f":"E40*D90","v":122.2440828},{"$f":"F40*D90","v":132.4310897}]
["B","Substituto na cobertura de ausências legais",null,0.0139,{"$f":"E40*D91","v":20.3984724},{"$f":"F40*D91","v":22.0983451}]
["C","Substituto na cobertura de licença-paternidade",null,0.0008,{"$f":"E40*D92","v":1.1740128},{"$f":"F40*D92","v":1.2718472}]
["D","Substituto na cobertura de ausência por acidente de trabalho",null,0.0038,{"$f":"E40*D93","v":5.5765608},{"$f":"F40*D93","v":6.0412742}]
["E","Substituto na cobertura de afastamento maternidade",null,0.0009,{"$f":"E40*D94","v":1.3207644},{"$f":"F40*D94","v":1.4308281}]
["F","Substituto na cobertura de Outras ausências (especificar)",null,0,{"$f":"E40*D95","v":0},{"$f":"F40*D95","v":0}]
[null,"Total",null,null,{"$f":"SUM(E90:E95)","v":150.7138932},{"$f":"SUM(F90:F95)","v":163.2733843}]
[]
[null,"Submódulo 4.2 – Substituto na intrajornada"]
["4.2","Substituto na intrajornada",null,"%","Valor (R$)","Valor (R$)"]
["A","Substituto na cobertura de intervalo para repouso ou alimentação",null,0,{"$f":"E40*D100","v":0},{"$f":"F40*D100","v":0}]
[null,"Total",null,null,{"$f":"SUM(E100:E100)","v":0},{"$f":"SUM(F100:F100)","v":0}]
[]
[null,"Quadro-resumo do Módulo 4 – Custo de reposição do profissional ausente"]
[4,"Custo de reposição do profissional ausente",null,"%","Valor (R$)","Valor (R$)"]
["4.1","Substituto nas ausências legais",null,null,{"$f":"E96","v":150.7138932},{"$f":"F96","v":163.2733843}]
["4.2","Substituto na intrajornada",null,null,{"$f":"E101","v":0},{"$f":"F101","v":0}]
[null,"Total",null,null,{"$f":"SUM(E105:E106)","v":150.7138932},{"$f":"SUM(F105:F106)","v":163.2733843}]
[]
[null,"Módulo 5 - Insumos diversos"]
[5,"Insumos diversos",null,"%","Valor (R$)","Valor (R$)"]
["A","Uniformes",null,0,{"$f":"Uniforme!G29","v":28.78688985744},{"$f":"Uniforme!G29","v":28.78688985744}]
["B","Materiais",null,0,{"$f":"Produto!G62","v":661.891567675},{"$f":"Produto!G62","v":661.891567675}]
["C","Equipamentos",null,0,{"$f":"Equipamento!F14","v":40},{"$f":"Equipamento!F14","v":40}]
["D","Outros (especificar)",null,0,0,0]
[null,"Total de Insumos diversos",null,null,{"$f":"SUM(E111:E114)","v":730.67845753244},{"$f":"SUM(F111:F114)","v":730.67845753244}]
[]
[null,"Módulo 6 - Custos indiretos, tributos e lucro"]
[6,"Custos Indiretos, tributos e lucro",null,"%","Valor (R$)","Valor (R$)"]
["A","Custos indiretos",null,0.0084,{"$f":"(E40+E75+E85+E107+E115)*D119","v":32.1652650159439},{"$f":"(F40+F75+F85+F107+F115)*D119","v":33.9228394909999}]
["B","Lucro",null,0.004966,{"$f":"(E40+E75+E85+E107+E115+E119)*D120","v":19.1755310476379},{"$f":"(F40+F75+F85+F107+F115+F119)*D120","v":20.2233204533296}]
["C","Tributos",null,{"$f":"SUM(D122:D124)","v":0.1425},{"$f":"SUM(E122:E124)","v":644.870914571722},{"$f":"SUM(F122:F124)","v":680.107952369963}]
["C1","Tributos federais PIS 1,65% - Confins 7,60%",null,0.0925,{"$f":"((E40+E75+E85+E107+E115+E119+E120)/(1-D121))*D122","v":418.600418230767},{"$f":"((F40+F75+F85+F107+F115+F119+F120)/(1-D121))*D122","v":441.473583117344}]
["C2","Tributos estaduais (especificar)",null,0,{"$f":"(E40+E75+E85+E107+E115+E119+E120)*D123","v":0},{"$f":"(F40+F75+F85+F107+F115+F119+F120)*E123","v":0}]
["C3","Tributos municipais (especificar)",null,0.05,{"$f":"((E40+E75+E85+E107+E115+E119+E120)/(1-D121))*D124","v":226.270496340955},{"$f":"((F40+F75+F85+F107+F115+F119+F120)/(1-D121))*D124","v":238.634369252619}]
[null,"Total",null,null,{"$f":"SUM(E119:E121)","v":696.211710635304},{"$f":"SUM(F119:F121)","v":734.254112314293}]
[]
["Quadro-resumo do custo por empregado"]
[]
[null,"Mão de obra vinculada à execução contratual",null,null,"(R$)","(R$)"]
["A","Módulo 1 - Composição da remuneração",null,null,{"$f":"E40","v":1467.516},{"$f":"F40","v":1589.809}]
["B","Módulo 2 – Encargos e benefícios anuais, mensais e diários",null,null,{"$f":"E75","v":1389.00508719376},{"$f":"F75","v":1455.78058779324}]
["C","Módulo 3 – Provisão para rescisão",null,null,{"$f":"E85","v":91.2847782576},{"$f":"F85","v":98.8918431124}]
["D","Módulo 4 – Custo de reposição do profissional ausente",null,null,{"$f":"E107","v":150.7138932},{"$f":"F107","v":163.2733843}]
["E","Módulo 5 - Insumos diversos",null,null,{"$f":"E115","v":730.67845753244},{"$f":"F115","v":730.67845753244}]
["Subtotal (A + B +C+ D+E)",null,null,null,{"$f":"SUM(E130:E134)","v":3829.1982161838},{"$f":"SUM(F130:F134)","v":4038.43327273808}]
["F","Módulo 6 - Custos indiretos, tributos e lucro",null,null,{"$f":"E125","v":696.211710635304},{"$f":"F125","v":734.254112314293}]
["Valor total por empregado",null,null,null,{"$f":"E135+E136","v":4525.4099268191},{"$f":"F135+F136","v":4772.68738505237}]
[]
["Quadro-resumo do valor mensal dos serviços"]
[]
["Tipo de serviço","Valor proposto por empregado","Quantidade de empregados por posto","Valor proposto por posto","Quantidade de postos","Valor total do serviço"]
[1,{"$f":"E137","v":4525.4099268191},1,{"$f":"B142*C142","v":4525.4099268191},3,{"$f":"D142*E142","v":13576.2297804573}]
[2,{"$f":"F137","v":4772.68738505237},1,{"$f":"B143*C143","v":4772.68738505237},1,{"$f":"D143*E143","v":4772.68738505237}]
[null,"Valor mensal dos serviços",null,null,null,{"$f":"SUM(F142:F143)","v":18348.9171655097}]
[]
["Quadro demonstrativo do valor global da proposta"]
[]
["A","Valor proposto por unidade de medida (valor posto)",null,null,null,null,{"$f":"D142","v":4525.4099268191}]
["B","Valor mensal do serviço (por produtividade x área)",null,null,null,null,{"$f":"G230","v":17900}]
["C","Valor global da propostas",null,null,null,null,{"$f":"G149*C13","v":214800}]
[]
[null,"Complemento dos serviços de limpeza e conservação"]
[]
["Mão de obra","Área","Produtividade",null,"Preço homem-mês","Subtotal"]
["Encarregado","Pisos acarpetados",1200,{"$f":"1/(30*C155)","v":2.77777777777778E-005},0,{"$f":"D155*E155","v":0}]
["Servente",null,null,{"$f":"1/C155","v":0.000833333333333333},{"$f":"D142","v":4525.4099268191},{"$f":"D156*E156","v":3.77117493901592}]
[null,null,null,null,null,{"$f":"F155+F156","v":3.77117493901592}]
["Encarregado","Pisos frios",1200,{"$f":"1/(30*C158)","v":2.77777777777778E-005},0,{"$f":"D158*E158","v":0}]
["Servente",null,null,{"$f":"1/C158","v":0.000833333333333333},{"$f":"D142","v":4525.4099268191},{"$f":"D159*E159","v":3.77117493901592}]
[null,null,null,null,null,{"$f":"F158+F159","v":3.77117493901592}]
["Encarregado","Laboratórios",450,{"$f":"1/(30*C161)","v":7.40740740740741E-005},0,{"$f":"D161*E161","v":0}]
["Servente",null,null,{"$f":"1/C161","v":0.00222222222222222},{"$f":"D142","v":4525.4099268191},{"$f":"D162*E162","v":10.0564665040424}]
[null,null,null,null,null,{"$f":"F161+F162","v":10.0564665040424}]
["Encarregado","Almoxarifado/galpões",2500,{"$f":"1/(30*C164)","v":1.33333333333333E-005},0,{"$f":"D164*E164","v":0}]
["Servente",null,null,{"$f":"1/C164","v":0.0004},{"$f":"D142","v":4525.4099268191},{"$f":"D165*E165","v":1.81016397072764}]
[null,null,null,null,null,{"$f":"F164+F165","v":1.81016397072764}]
["Encarregado","Oficinas",1800,{"$f":"1/(30*C167)","v":1.85185185185185E-005},0,{"$f":"D167*E167","v":0}]
["Servente",null,null,{"$f":"1/C167","v":0.000555555555555556},{"$f":"D142","v":4525.4099268191},{"$f":"D168*E168","v":2.51411662601062}]
[null,null,null,null,null,{"$f":"F167+F168","v":2.51411662601062}]
["Encarregado","Áreas com espaços livres – saguão, hall e salão",1500,{"$f":"1/(30*C170)","v":2.22222222222222E-005},0,{"$f":"D170*E170","v":0}]
["Servente",null,null,{"$f":"1/C170","v":0.000666666666666667},{"$f":"D142","v":4525.4099268191},{"$f":"D171*E171","v":3.01693995121274}]
[null,null,null,null,null,{"$f":"F170+F171","v":3.01693995121274}]
["Encarregado","Banheiros",300,{"$f":"1/(30*C173)","v":0.000111111111111111},0,{"$f":"D173*E173","v":0}]
["Servente",null,null,{"$f":"1/C173","v":0.00333333333333333},{"$f":"D142","v":4525.4099268191},{"$f":"D174*E174","v":15.0846997560637}]
[null,null,null,null,null,{"$f":"F173+F174","v":15.0846997560637}]
["Encarregado","Pisos pavimentados adjacentes/contínuos às edificações",2700,{"$f":"1/(30*C176)","v":1.23456790123457E-005},0,{"$f":"D176*E176","v":0}]
["Servente",null,null,{"$f":"1/C176","v":0.00037037037037037},{"$f":"D142","v":4525.4099268191},{"$f":"D177*E177","v":1.67607775067374}]
[null,null,null,null,null,{"$f":"F176+F177","v":1.67607775067374}]
["Encarregado","Varrição de passeios e arruamentos",9000,{"$f":"1/(30*C179)","v":3.7037037037037E-006},0,{"$f":"D179*E179","v":0}]
["Servente",null,null,{"$f":"1/C179","v":0.000111111111111111},{"$f":"D142","v":4525.4099268191},{"$f":"D180*E180","v":0.502823325202122}]
[null,null,null,null,null,{"$f":"F179+F180","v":0.502823325202122}]
["Encarregado","Pátios e áreas verdes com alta frequência",2700,{"$f":"1/(30*C182)","v":1.23456790123457E-005},0,{"$f":"D182*E182","v":0}]
["Servente",null,null,{"$f":"1/C182","v":0.00037037037037037},{"$f":"D142","v":4525.4099268191},{"$f":"D183*E183","v":1.67607775067374}]
[null,null,null,null,null,{"$f":"F182+F183","v":1.67607775067374}]
["Encarregado","Pátios e áreas verdes com média frequência",2700,{"$f":"1/(30*C185)","v":1.23456790123457E-005},0,{"$f":"D185*E185","v":0}]
["Servente",null,null,{"$f":"1/C185","v":0.00037037037037037},{"$f":"D142","v":4525.4099268191},{"$f":"D186*E186","v":1.67607775067374}]
[null,null,null,null,null,{"$f":"F185+F186","v":1.67607775067374}]
["Encarregado","Pátios e áreas verdes com baixa frequência",2700,{"$f":"1/(30*C188)","v":1.23456790123457E-005},0,{"$f":"D188*E188","v":0}]
["Servente",null,null,{"$f":"1/C188","v":0.00037037037037037},{"$f":"D142","v":4525.4099268191},{"$f":"D189*E189","v":1.67607775067374}]
[null,null,null,null,null,{"$f":"F188+F189","v":1.67607775067374}]
["Encarregado","Coleta de detritos em pátios e áreas verdes com frequência diária",100000,{"$f":"1/(30*C191)","v":3.33333333333333E-007},0,{"$f":"D191*E191","v":0}]
["Servente",null,null,{"$f":"1/C191","v":1E-005},{"$f":"D142","v":4525.4099268191},{"$f":"D192*E192","v":0.0452540992681911}]
[null,null,null,null,null,{"$f":"F191+F192","v":0.0452540992681911}]
["Encarregado","Áreas hospitalares e assemelhadas",450,{"$f":"1/(30*C194)","v":7.40740740740741E-005},0,{"$f":"D194*E194","v":0}]
["Servente",null,null,{"$f":"1/C194","v":0.00222222222222222},{"$f":"D142","v":4525.4099268191},{"$f":"D195*E195","v":10.0564665040424}]
[null,null,null,null,null,{"$f":"F194+F195","v":10.0564665040424}]
["Mão de obra","Área","Produtividade",null,"Frequência no mês","Jornada de trabalho no semestre","Preço homem-mês","Subtotal"]
["Encarregado","Face externa com exposição a situação de risco",160,{"$f":"1/(30*C198)","v":0.000208333333333333},16,{"$f":"D198*E198*(1/188.76)","v":1.76591085681995E-005},0,{"$f":"F198*G198","v":0}]
["Servente",null,null,{"$f":"1/C198","v":0.00625},16,{"$f":"D199*E199*(1/188.76)","v":0.000529773257045984},{"$f":"D143","v":4772.68738505237},{"$f":"F199*G199","v":2.52844214084148}]
[null,null,null,null,null,null,null,{"$f":"H198+H199","v":2.52844214084148}]
["Encarregado","Face externa sem exposição a situação de risco",380,{"$f":"1/(30*C201)","v":8.7719298245614E-005},16,{"$f":"D201*E201*(1/188.76)","v":7.43541413397873E-006},0,{"$f":"F201*G201","v":0}]
["Servente",null,null,{"$f":"1/C201","v":0.00263157894736842},16,{"$f":"D202*E202*(1/188.76)","v":0.000223062424019362},{"$f":"D142","v":4525.4099268191},{"$f":"F202*G202","v":1.00944890795755}]
[null,null,null,null,null,null,null,{"$f":"H201+H202","v":1.00944890795755}]
["Encarregado","Face interna",380,{"$f":"1/(30*C204)","v":8.7719298245614E-005},16,{"$f":"D204*E204*(1/188.76)","v":7.43541413397873E-006},0,{"$f":"F204*G204","v":0}]
["Servente",null,null,{"$f":"1/C204","v":0.00263157894736842},16,{"$f":"D205*E205*(1/188.76)","v":0.000223062424019362},{"$f":"D142","v":4525.4099268191},{"$f":"F205*G205","v":1.00944890795755}]
[null,null,null,null,null,null,null,{"$f":"H204+H205","v":1.00944890795755}]
["Encarregado","Fachadas envidraçadas",160,{"$f":"1/(4*C207)","v":0.0015625},8,{"$f":"D207*E207*(1/1132.6)","v":1.10365530637471E-005},0,{"$f":"F207*G207","v":0}]
["Servente",null,null,{"$f":"1/C207","v":0.00625},8,{"$f":"D208*E208*(1/1132.6)","v":4.41462122549885E-005},{"$f":"D143","v":4772.68738505237},{"$f":"F208*G208","v":0.210696070327228}]
[null,null,null,null,null,null,null,{"$f":"H207+H208","v":0.210696070327228}]
[]
[]
[null,"Tipo de área","Preço mensal unitário","Área","Periodicidade (diária)","Área total à ser limpa","Subtotal"]
[null,"Almoxarifados/galpões",{"$f":"F165","v":1.81016397072764},29.28,0.1,{"$f":"D213*E213","v":2.928},{"$f":"C213*F213","v":5.30016010629053}]
[null,"Áreas com espaços livres - saguão, hall e salão (circulação interna)",{"$f":"F171","v":3.01693995121274},487.35,1,{"$f":"D214*E214","v":487.35},{"$f":"C214*F214","v":1470.30568522353}]
[null,"Áreas com espaços livres - saguão, hall e salão (ginásio)",{"$f":"F171","v":3.01693995121274},729,0.2,{"$f":"D215*E215","v":145.8},{"$f":"C215*F215","v":439.869844886817}]
[null,"Banheiros",{"$f":"F174","v":15.0846997560637},{"$f":"88+1.8","v":89.8},0.4,{"$f":"D216*E216","v":35.92},{"$f":"C216*F216","v":541.842415237807}]
[null,"Banheiros",{"$f":"F174","v":15.0846997560637},137.1,2,{"$f":"D217*E217","v":274.2},{"$f":"C217*F217","v":4136.22467311266}]
[null,"Esquadria externa sem risco",{"$f":"H202","v":1.00944890795755},368.6,0.004166667,{"$f":"D218*E218","v":1.5358334562},{"$f":"C218*F218","v":1.55034540516576}]
[null,"Esquadrias externas sem risco",{"$f":"H202","v":1.00944890795755},134.07,0.008333333,{"$f":"D219*E219","v":1.11724995531},{"$f":"C219*F219","v":1.1278067473033}]
[null,"Esquadrias externas com risco",{"$f":"H199","v":2.52844214084148},201.11,0.008333333,{"$f":"D220*E220","v":1.67591659963},{"$f":"C220*F220","v":4.23745815504025}]
[null,"Laboratório",{"$f":"F162","v":10.0564665040424},559.66,0.4,{"$f":"D221*E221","v":223.864},{"$f":"C221*F221","v":2251.28081746096}]
[null,"Laboratório",{"$f":"F162","v":10.0564665040424},58.56,1,{"$f":"D222*E222","v":58.56},{"$f":"C222*F222","v":588.906678476726}]
[null,"Oficina",{"$f":"F168","v":2.51411662601062},75.47,0.2,{"$f":"D223*E223","v":15.094},{"$f":"C223*F223","v":37.9480763530042}]
[null,"Piso frio",{"$f":"F159","v":3.77117493901592},{"$f":"328.11+736.93","v":1065.04},1,{"$f":"D224*E224","v":1065.04},{"$f":"C224*F224","v":4016.45215704951}]
[null,"Piso frio",{"$f":"F159","v":3.77117493901592},540,2,{"$f":"D225*E225","v":1080},{"$f":"C225*F225","v":4072.86893413719}]
[null,"Piso frio",{"$f":"F159","v":3.77117493901592},{"$f":"10+162","v":172},0.2,{"$f":"D226*E226","v":34.4},{"$f":"C226*F226","v":129.728417902148}]
[null,"Piso frio",{"$f":"F159","v":3.77117493901592},9.2,0.4,{"$f":"D227*E227","v":3.68},{"$f":"C227*F227","v":13.8779237755786}]
[null,"Pisos pavimentados adjacentes/contíguos às edificações",{"$f":"F177","v":1.67607775067374},1124,0.1,{"$f":"D228*E228","v":112.4},{"$f":"C228*F228","v":188.391139175728}]
[null,"Varrição de passeios e arruamentos",{"$f":"F180","v":0.502823325202122},3.6,0.05,{"$f":"D229*E229","v":0.18},{"$f":"C229*F229","v":0.090508198536382}]
[null,"Subtotal",null,null,null,null,{"$f":"ROUND((SUM(G213:G229)),2)","v":17900}]

{"sheet":"MemCalculo","index":1,"n_rows":99,"n_cols":9,"rows_kept":99,"cut":false,"hidden":false,"merged":[[0,0,0,8],[1,0,1,8],[2,0,3,8],[4,0,5,8],[6,0,7,8],[8,2,8,8],[9,0,10,8],[11,2,11,8],[12,0,12,8],[13,2,13,8],[14,0,15,8],[16,2,16,8],[17,0,18,8],[19,2,19,8],[20,2,20,8],[21,0,21,8],[22,2,22,8],[23,0,23,8],[24,2,24,8],[25,0,25,8],[26,2,26,8],[27,0,27,8],[28,2,28,8],[29,0,29,8],[30,2,30,8],[31,0,31,8],[32,3,32,4],[32,6,32,7],[33,0,33,8],[34,2,34,8],[35,0,35,8],[36,2,36,8],[37,0,38,8],[39,2,39,8],[40,0,40,8],[41,2,41,8],[42,0,42,8],[43,2,43,8],[44,0,44,8],[45,2,45,8],[46,0,46,8],[47,2,47,8],[48,0,48,8],[52,0,53,8],[54,2,54,8],[55,2,55,8],[56,0,56,8],[57,2,57,8],[58,0,58,8],[59,2,59,8],[60,0,60,8],[61,2,61,8],[62,0,62,8],[63,0,64,0],[63,2,63,8],[64,2,64,8],[65,0,65,8],[66,2,66,8],[67,0,67,8],[68,2,68,8],[69,0,70,8],[71,0,72,8],[73,2,73,8],[74,2,74,8],[75,0,75,8],[76,2,76,8],[77,0,77,8],[78,0,79,0],[78,2,78,8],[79,2,79,8],[80,0,80,8],[81,0,82,0],[81,2,81,8],[83,0,83,8],[84,2,84,8],[85,0,86,0],[85,2,85,8],[86,2,86,8],[87,2,87,8],[88,0,89,8],[90,2,90,8],[91,0,91,8],[92,2,92,8],[93,0,93,8],[94,0,95,0],[94,2,94,8],[96,0,96,8],[97,2,97,8],[98,2,98,8]]}
["Planilha de Custos e Formação de Preços"]
[{"$f":"[1]Configurar!C7&\" - \"&[1]Configurar!D8&\" \"&[1]Configurar!Q8","v":"Processo Licitatório - Pregão Eletrônico 025/2021"}]
["Memórias de Cálculo"]
[]
["Módulo 2 - Encargos e Benefícios Anuais, Mensais e Diários"]
[]
["Submódulo 2.1 - 13º (décimo terceiro) salário, férias e adicional de férias"]
[]
["13° Salário",{"$f":"(1/12)","v":0.0833333333333333},"{[1 (mês) : 12 (meses)] x 100}"]
["C F 1988 Art 7° Inc VIII - Lei 4090 13/07/1962 Art 1° AO 3° - Lei 7787 30/06/1989 ART 1° § Único - Acórdão TCU 1753/2008 Plenário - Apelação Cível TRF 3° Região 303419 - Resolução CNJ 98/2009"]
[]
["Adicional de férias",{"$f":"(1/3)*(1/12)","v":0.0277777777777778},"{(1/3) x [1 (mês) : 12 (meses)] x 100}"]
["C F 1988 Art 7° Inc VIII "]
["Férias",{"$f":"(1/12)","v":0.0833333333333333},"1 (mês) : 12 (meses) x 100"]
["C F 1988 Art 7° Inc VIII - Lei 4090 13/07/1962 Art 1° AO 3° - Lei 7787 30/06/1989 Art 1° § Único - Acórdão TCU 1753/2008 Plenário - Apelação Cível TRF 3° Região 303419 - Resolução CNJ 98/2009"]
[]
["Total",{"$f":"SUM(B9:B14)","v":0.194444444444444}]
["Submódulo 2.2 - Encargos previdenciários (GPS), Fundo Garantia Tempo de Serviço (FGTS) e outras contribuições"]
[]
["Item/Fundamentação","Alíq (%)","Memória de cálculo"]
["INSS",0.2,"[(Total de Remuneração) x (Alíquota)]"]
["Art. 22, inciso I da Lei nº 8.212/91"]
["SESI ou SESC",0.015,"[(Total de Remuneração) x (Alíquota)]"]
["Art. 30 da Lei nº 8.036/90 e art. 1º da Lei nº 8.154/90"]
["SENAI ou SENAC",0.01,"[(Total de Remuneração) x (Alíquota)]"]
["Decreto-Lei nº 2.318/86"]
["INCRA",0.002,"[(Total de Remuneração) x (Alíquota)]"]
["Art. 1º, inciso I, do Decreto-Lei nº 1.146/70"]
["Salário educação",0.025,"[(Total de Remuneração) x (Alíquota)]"]
["Art. 3º, inciso I, do Decreto nº 87.043/82"]
["FGTS",0.08,"[(Total de Remuneração) x (Alíquota)]"]
["Art. 15 da Lei nº 8.036/90 e art. 7º, inciso III, da Constituição Federal de 1988"]
["Seguro acidente do trabalho",{"$f":"D33*G33","v":0.049587},"RAT",{"$f":"[1]Configurar!Z9","v":0.03},null,"FAP",{"$f":"[1]Configurar!AE9","v":1.6529},null,"[(Grau de risco-RAT) x (Fator Acid Prev - FAP)]"]
["Art. 22, inciso II, alíneas ‘b’ e ‘c’, da Lei nº 8.212/91 - Anexo V do Decreto nº 3048/99 "]
["SEBRAE",0.006,"[(Total de Remuneração) x (Alíquota)]"]
["Lei nº 8.029/90, alterada pela Lei nº 8.154/90"]
["Total",{"$f":"SUM(B21:B35)","v":0.387587}]
["Submódulo 2.3 - Benefícios mensais e diários"]
[]
["Transporte",null,"{[2 (ida/volta) x R$ (unit VT) x (dias trab)] - [R$ (salário base) x 6% (custo empregado)]}"]
["Lei 7418 de 16/12/1985 - Art 1° -  Art 2° -  Art 4° Parágrafo único"]
["Auxílio refeição/alimentação",null,"{[(vlr VA) x (dias trab)] - 1% (asseio) ou 20% (vigilância)}"]
[" Acordo e/ou Convenção Coletiva do Trabalho - CCT vigente da categoria "]
["Contribuição assistencial patronal",null,"[(salário base) x 0,60% (asseio e vigilância)]"]
["Acordo e/ou Convenção Coletiva do Trabalho - Claúsula 46 CCT vigente da categoria "]
["Benefício de assistência ao trabalhador",null,"[R$ 11,00 (asseio p/empregado) ou R$ 14,00 (vigilância p/empregado)]"]
["Acordo e/ou Convenção Coletiva do Trabalho - Claúsula 16 CCT vigente da categoria "]
["Seguro de vida",null,"(custo de mercado)"]
["Acordo e/ou Convenção Coletiva do Trabalho - CCT vigente da categoria "]
["Total"]
[]
[]
["Módulo 3 - Provisão para Rescisão"]
[]
["Item/Fundamentação","Alíq (%)","Memória de cálculo"]
["Aviso prévio indenizado",{"$f":"((1/12*5%))","v":0.00416666666666667},"{[(1 mês : 12 meses) x (5% (Coef ind)] : 30 dias x 33 dias}"]
["C F 1988 Art 7° Inc XXI - CLT Art 477 Art 487 ao 491 - Resolução CNJ 98/2009"]
["Incidência FGTS s/aviso prévio indenizado",0.0003,"[8% (Alíq FGTS) x (Alíq Aviso prévio indenizado)]"]
["Lei 8036 11/05/1990 Art 15 - C F 1988 Art 7° Inc III - MTb IN 84 13/07/2010 - Acórdão TCU 1753/2008 Plenário"]
["Multa FGTS do aviso prévio indenizado",0.0016,"[(1/100)  - (0,10 x 0,08)]"]
["Lei 8036 11/05/1990 Art 18 § 1° c/Redação na Lei 9491 09/09/1997 - Resolução CNJ 98/2009 - LC 110 29/06/2001 Art 1°"]
["Aviso prévio trabalhado",0.0185,"[(7 dias : 30 dias) : 12 meses]"]
["Acórdão TCU 3006/2010 Plenário - Resolução CNJ 98/2009"]
["Incidência de GPS, FGTS e outras contribuições sobre o aviso prévio trabalhado",0.3876,"[ (Alíq aviso prévio trabalhado) x (Total submódulo 2.2)]"]
[]
["Lei 8212 24/07/1991 Art 22 Inc - Acórdão TCU 1753/2008 Plenário"]
["Multa FGTS do aviso prévio trabalhado",0.0304,"[(40%) x (Alíq 8% FGTS)]"]
["Lei 8036 11/05/1990 Art 18 § 1° c/Redação na Lei 9491 09/09/1997 - Resolução CNJ 98/2009 - LC 110 29/06/2001 Art 1°"]
[]
["Módulo 4 - Custo de Reposição do Profissional Ausente"]
[]
["Submódulo 4.1 - Ausências Legais"]
[]
["Substituto na cobertura de férias",0.0833]
["Substituto na cobertura de ausências legais",0.0139]
["Art. 473 da CLT e Acórdão TCU 6771/2009"]
["Substituto na cobertura de licença-paternidade",0.0008]
["Art. 7º, inciso XIX, da Constituição Federal"]
["Substituto na cobertura de ausência por acidente de trabalho",0.0038]
[]
[" Arts. 19 à 23 da Lei 8.213/91 - Lei nº 6.367/76 e art. 473 da CLT"]
["Substituto na cobertura de afastamento maternidade",0.0009]
[]
["Art. 476 da CLT; art. 6º, §1º, alínea \"f\", da Lei 605/49 c/c art. 12, alínea \"f\", do Decreto 27.048/49 e Acórdão TCU nº 1.753/2008 Plenário."]
["Sub-Total",{"$f":"SUM(B74:B82)","v":0.1027}]
["Incidência encargos submódulo 4.1 s/custo reposição profissional ausente",{"$f":"B85*B37","v":0.0398051849},"[(Subtotal submódulo 4.1) x (Total submódulo 2.2)]"]
[]
["Total",{"$f":"B86+B85","v":0.1425051849}]
["Submódulo 4.1.1 - Afastamento maternidade (120 dias) "]
[]
["Férias pagas substituto nos 120 dias de reposição",{"$f":"(0.0144*0.1*0.4509*(4/12))","v":0.000216432},"[(0,0144 x 0,1 x 0,4509) x (6/12)]"]
["Art. 6º e 201 da CF, art. 392 da CLT"]
["13° Sal pago ao substituto do afast maternidade",{"$f":"(1/12)*(4/12)","v":0.0277777777777778},"[( 1 mês : 12 meses) x (4 meses : 12 meses)]"]
["Art. 6º e 201 da CF, art. 392 da CLT"]
["Incidência do submódulo 2.2 s/afastamento maternidade prop aos 120 dias de reposição",{"$f":"(0.0144*0.1*0.4509*(4/12))*B37","v":8.3886229584E-005},"{[(0,0144 x 0,1 x 0,4509) x (4/12)] x (Total submódulo 2.2)}"]
[]
["Art. 6º e 201 da CF, art. 392 da CLT"]
["Total",{"$f":"SUM(B91:B95)","v":0.0280780960073618}]
["Total geral - Encargos e provisões ",{"$f":"B17+B37+B69+B88+B98","v":0.752614725351806}]

{"sheet":"Uniforme","index":2,"n_rows":29,"n_cols":11,"rows_kept":29,"cut":false,"hidden":false,"merged":[[0,0,0,6],[0,8,4,9],[1,0,1,6],[2,0,2,6],[3,0,4,6],[5,0,6,0],[5,1,6,1],[5,3,5,4],[5,8,6,8],[5,9,6,9],[13,0,13,5],[13,8,17,9],[14,0,15,6],[16,0,17,0],[16,1,17,1],[16,3,16,4],[27,0,27,5],[28,0,28,5]]}
["Planilha de Custos e Formação de Preços",null,null,null,null,null,null,null,"Inserir preços aqui"]
[{"$f":"[1]Configurar!C7&\" - \"&[1]Configurar!D8&\" \"&[1]Configurar!Q8","v":"Processo Licitatório - Pregão Eletrônico 025/2021"}]
["1. Servente de limpeza"]
["Uniformes - Campus São Bento do Sul"]
[]
["Descrição","Unidade","Per p/ Troca","Quantidades",null,"Valor Unitário","Valor Mensal",null,6,"Preço base unitário"]
[null,null," (em meses)","por Func","por Ano"," (R$)"," (R$)"]
["Calça comprida em brim com bolsos laterais e traseiros","UN",6,2,{"$f":"((12/C8)*D8)","v":4},{"$f":"J8*[1]Configurar!$G$40","v":17.0786},{"$f":"IFERROR((((F8*E8)/12)*[1]Configurar!$G$40),0)","v":2.77789121866667},{"$f":"(E8*F8)/12","v":5.69286666666667},1,35,{"$f":"IF(J8=\"\",\" << Este item está sem preço\",\"\")","v":""}]
["Jalecos em brim, manga curta, com logomarca da empresa impressa ou bordada no bolso","UN",6,2,{"$f":"((12/C9)*D9)","v":4},{"$f":"J9*[1]Configurar!$G$40","v":14.6388},{"$f":"IFERROR((((F9*E9)/12)*[1]Configurar!$G$40),0)","v":2.381049616},{"$f":"(E9*F9)/12","v":4.8796},2,30,{"$f":"IF(J9=\"\",\" << Este item está sem preço\",\"\")","v":""}]
["Camisetas manga curta, malha fria, 100% algodão, gola esporte com emblema da empresa pintado","UN",6,2,{"$f":"((12/C10)*D10)","v":4},{"$f":"J10*[1]Configurar!$G$40","v":14.6388},{"$f":"IFERROR((((F10*E10)/12)*[1]Configurar!$G$40),0)","v":2.381049616},{"$f":"(E10*F10)/12","v":4.8796},3,30,{"$f":"IF(J10=\"\",\" << Este item está sem preço\",\"\")","v":""}]
["Camisetas manga longa, malha fria, gola esporte com emblema da empresa pintado","UN",6,2,{"$f":"((12/C11)*D11)","v":4},{"$f":"J11*[1]Configurar!$G$40","v":15.61472},{"$f":"IFERROR((((F11*E11)/12)*[1]Configurar!$G$40),0)","v":2.53978625706667},{"$f":"(E11*F11)/12","v":5.20490666666667},4,32,{"$f":"IF(J11=\"\",\" << Este item está sem preço\",\"\")","v":""}]
["Casaco ou jaqueta em nylon, com zíper na frente e bolsos laterais, com forro interno","UN",12,1,{"$f":"((12/C12)*D12)","v":1},{"$f":"J12*[1]Configurar!$G$40","v":21.9582},{"$f":"IFERROR((((F12*E12)/12)*[1]Configurar!$G$40),0)","v":0.892893606},{"$f":"(E12*F12)/12","v":1.82985},5,45,{"$f":"IF(J12=\"\",\" << Este item está sem preço\",\"\")","v":""}]
["Casaco tipo moletom, material algodão","UN",12,1,{"$f":"((12/C13)*D13)","v":1},{"$f":"J13*[1]Configurar!$G$40","v":24.398},{"$f":"IFERROR((((F13*E13)/12)*[1]Configurar!$G$40),0)","v":0.992104006666667},{"$f":"(E13*F13)/12","v":2.03316666666667},6,50,{"$f":"IF(J13=\"\",\" << Este item está sem preço\",\"\")","v":""}]
["Sub-total - Uniformes - (mensal/percapita)",null,null,null,null,null,{"$f":"SUM(G8:G13)","v":11.9647743204},{"$f":"SUM(H8:H13)","v":24.51999},null,null,{"$f":"(G14-H14)/H14","v":-0.51204}]
["EPIs - Campus São Bento do Sul"]
[]
["Descrição","Unidade","Per p/ Troca","Quantidades",null,"Valor Unitário","Valor Mensal"]
[null,null," (em meses)","por Func","por Ano"," (R$)"," (R$)"]
["Calçado ocupacional, confeccionado em couro hidrofugado,. palmilha montada pelo sistema strobel, com bico de conformação e solado de poliuretano bidensidade injetado direto","PAR",6,1,{"$f":"IFERROR(((12/C19)*D19),\"\")","v":2},{"$f":"J19*[1]Configurar!$G$40","v":19.5184},{"$f":"IFERROR((((F19*E19)/12)*[1]Configurar!$G$40),0)","v":1.58736641066667},{"$f":"(E19*F19)/12","v":3.25306666666667},1,40,{"$f":"IF(J19=\"\",\" << Este item está sem preço\",\"\")","v":""}]
["Calçado ocupacional tipo bota Classe II (impermeável), confeccionada com policloreto de vinila (PVC) e borracha nitrílica, cano longo","PAR",6,1,{"$f":"IFERROR(((12/C20)*D20),\"\")","v":2},{"$f":"J20*[1]Configurar!$G$40","v":24.398},{"$f":"IFERROR((((F20*E20)/12)*[1]Configurar!$G$40),0)","v":1.98420801333333},{"$f":"(E20*F20)/12","v":4.06633333333333},2,50,{"$f":"IF(J20=\"\",\" << Este item está sem preço\",\"\")","v":""}]
["Luva de látex forrada com palma antiderrapante, cano longo","PAR",1,12,{"$f":"IFERROR(((12/C21)*D21),\"\")","v":144},{"$f":"J21*[1]Configurar!$G$40","v":0.292776},{"$f":"IFERROR((((F21*E21)/12)*[1]Configurar!$G$40),0)","v":1.71435572352},{"$f":"(E21*F21)/12","v":3.513312},3,0.6,{"$f":"IF(J21=\"\",\" << Este item está sem preço\",\"\")","v":""}]
["Máscara Descartável, respirador semifacial PFF2, para proteção contra poeiras, névoas e fumos","UN",1,22,{"$f":"IFERROR(((12/C22)*D22),\"\")","v":264},{"$f":"J22*[1]Configurar!$G$40","v":0.390368},{"$f":"IFERROR((((F22*E22)/12)*[1]Configurar!$G$40),0)","v":4.19064732416},{"$f":"(E22*F22)/12","v":8.588096},4,0.8,{"$f":"IF(J22=\"\",\" << Este item está sem preço\",\"\")","v":""}]
["Óculos de Proteção contra partículas multidirecionais. Incolor","UN",12,1,{"$f":"IFERROR(((12/C23)*D23),\"\")","v":1},{"$f":"J23*[1]Configurar!$G$40","v":12.199},{"$f":"IFERROR((((F23*E23)/12)*[1]Configurar!$G$40),0)","v":0.496052003333333},{"$f":"(E23*F23)/12","v":1.01658333333333},5,25,{"$f":"IF(J23=\"\",\" << Este item está sem preço\",\"\")","v":""}]
["Protetor Solar FPS 30, 120g","UN",2,1,{"$f":"IFERROR(((12/C24)*D24),\"\")","v":6},{"$f":"J24*[1]Configurar!$G$40","v":14.6388},{"$f":"IFERROR((((F24*E24)/12)*[1]Configurar!$G$40),0)","v":3.571574424},{"$f":"(E24*F24)/12","v":7.3194},6,30,{"$f":"IF(J24=\"\",\" << Este item está sem preço\",\"\")","v":""}]
["Luva Nitrílica, na cor verde, punho longo 45cm","PAR",1,8,{"$f":"IFERROR(((12/C25)*D25),\"\")","v":96},{"$f":"J25*[1]Configurar!$G$40","v":0.585552},{"$f":"IFERROR((((F25*E25)/12)*[1]Configurar!$G$40),0)","v":2.28580763136},{"$f":"(E25*F25)/12","v":4.684416},7,1.2,{"$f":"IF(J25=\"\",\" << Este item está sem preço\",\"\")","v":""}]
["Protetor auricular (em caso de exposição a ruído)","PAR",12,1,{"$f":"IFERROR(((12/C26)*D26),\"\")","v":1},{"$f":"J26*[1]Configurar!$G$40","v":9.7592},{"$f":"IFERROR((((F26*E26)/12)*[1]Configurar!$G$40),0)","v":0.396841602666667},{"$f":"(E26*F26)/12","v":0.813266666666667},8,20,{"$f":"IF(J26=\"\",\" << Este item está sem preço\",\"\")","v":""}]
["Avental de PVC impermeável","UN",12,1,{"$f":"IFERROR(((12/C27)*D27),\"\")","v":1},{"$f":"J27*[1]Configurar!$G$40","v":14.6388},{"$f":"IFERROR((((F27*E27)/12)*[1]Configurar!$G$40),0)","v":0.595262404},{"$f":"(E27*F27)/12","v":1.2199},9,30,{"$f":"IF(J27=\"\",\" << Este item está sem preço\",\"\")","v":""}]
["Sub-total - EPIs - (mensal/percapita)",null,null,null,null,null,{"$f":"SUM(G19:G27)","v":16.82211553704},{"$f":"SUM(H19:H27)","v":34.474374},null,null,{"$f":"(G28-H28)/H28","v":-0.51204}]
["Total - Uniformes e EPIs - (mensal/percapita)",null,null,null,null,null,{"$f":"G14+G28","v":28.78688985744},{"$f":"H28+H14","v":58.994364},null,null,{"$f":"(G29-H29)/H29","v":-0.51204}]

{"sheet":"Produto","index":3,"n_rows":62,"n_cols":11,"rows_kept":62,"cut":false,"hidden":false,"merged":[[0,0,0,6],[0,8,2,9],[1,0,1,6],[2,0,3,6],[4,0,5,0],[4,1,5,1],[4,2,4,3],[4,4,5,4],[4,5,5,5],[4,6,5,6],[4,8,5,8],[4,9,5,9]]}
["Planilha de Custos e Formação de Preços",null,null,null,null,null,null,null,"Inserir preços aqui"]
[{"$f":"[1]Configurar!C7&\" - \"&[1]Configurar!D8&\" \"&[1]Configurar!Q8","v":"Processo Licitatório - Pregão Eletrônico 025/2021"}]
["Produtos - Campus São Bento do Sul"]
[]
["Descrição","Unidade","QuantIdades",null,"Valor Unit (R$)","Custo Total no Mês  (R$)","Custo Mês  p/capita (R$)",null,6,"Preço base unitário"]
[null,null,"Anual","Mensal",null,null,null,null,null,null,0.65]
["Água Sanitária. Composição química: hipoclorito de sódio, hidróxido de sódio, cloreto, teor cloro ativo varia de 2 a 2,50 %. Cor incolor. Embalagem plástica com tampa lacrada","GL 5L",{"$f":"D7*12","v":24},2,{"$f":"J7","v":3.068},{"$f":"E7*D7","v":6.136},{"$f":"(F7/$E$62)","v":1.534},null,1,{"$f":"K7*$K$6","v":3.068},4.72]
["Álcool em gel, anti séptico para as mãos, álcool etílico 70%. Galão com 5 litros","GL 5L",{"$f":"D8*12","v":120},10,{"$f":"J8","v":19.006},{"$f":"E8*D8","v":190.06},{"$f":"(F8/$E$62)","v":47.515},null,2,{"$f":"K8*$K$6","v":19.006},29.24]
["Balde plástico com capacidade para 15 litros. Material plástico com alça metálica, sem tampa, formato cilíndrico para uso geral","UN",{"$f":"D9*12","v":0},0,{"$f":"J9","v":9.347},{"$f":"E9*D9","v":0},{"$f":"(F9/$E$62)","v":0},null,3,{"$f":"K9*$K$6","v":9.347},14.38]
["Balde plástico com capacidade para 20 litros. Material plástico com alça metálica, sem tampa, formato cilíndrico para uso geral","UN",{"$f":"D10*12","v":6},0.5,{"$f":"J10","v":9.347},{"$f":"E10*D10","v":4.6735},{"$f":"(F10/$E$62)","v":1.168375},null,4,{"$f":"K10*$K$6","v":9.347},14.38]
["Desinfetante. Contém hipoclorito de sódio, perfume e água. Usado para higienização","GL 5L",{"$f":"D11*12","v":96},8,{"$f":"J11","v":5.2325},{"$f":"E11*D11","v":41.86},{"$f":"(F11/$E$62)","v":10.465},null,5,{"$f":"K11*$K$6","v":5.2325},8.05]
["Detergente. Composição: ph neutro, biodegradável e outras substâncias. Líquido. Para uso na remoção de gordura e sujeira em geral.","FR 5OOML",{"$f":"D12*12","v":48},4,{"$f":"J12","v":0.8385},{"$f":"E12*D12","v":3.354},{"$f":"(F12/$E$62)","v":0.8385},null,6,{"$f":"K12*$K$6","v":0.8385},1.29]
["Escova para vaso sanitário, cabo em plástico resistente","UN",{"$f":"D13*12","v":1.9992},0.1666,{"$f":"J13","v":1.365},{"$f":"E13*D13","v":0.227409},{"$f":"(F13/$E$62)","v":0.05685225},null,7,{"$f":"K13*$K$6","v":1.365},2.1]
["Escova para lavar roupa oval. Material corpo madeira, tratamento superficial envernizado, cerdas sintético","UN",{"$f":"D14*12","v":12},1,{"$f":"J14","v":1.1635},{"$f":"E14*D14","v":1.1635},{"$f":"(F14/$E$62)","v":0.290875},null,8,{"$f":"K14*$K$6","v":1.1635},1.79]
["Esponja de aço inoxidável de longa duração. Não enferruja. Peso pacote 10 gr","UN",{"$f":"D15*12","v":0},0,{"$f":"J15","v":0.8385},{"$f":"E15*D15","v":0},{"$f":"(F15/$E$62)","v":0},null,9,{"$f":"K15*$K$6","v":0.8385},1.29]
["Luva de segurança tricotada em algodão reciclado, revestida em látex natural corrugado na palma e dedos, punho em elástico, para proteção das mãos do usuário contra agentes abrasivos, escoriantes, cortantes e perfurantes. (Tipo Gladiador)","PAR",{"$f":"D16*12","v":0},0,{"$f":"J16","v":2.47},{"$f":"E16*D16","v":0},{"$f":"(F16/$E$62)","v":0},null,10,{"$f":"K16*$K$6","v":2.47},3.8]
["Luva, confeccionada em borracha natural, cor amarela; flocada em algodão internamente; com antiderrapante na palma, face palmar dos dedos e pontas dos dedos. tamanhos pequeno, médio, grande","PAR",{"$f":"D17*12","v":72},6,{"$f":"J17","v":2.2945},{"$f":"E17*D17","v":13.767},{"$f":"(F17/$E$62)","v":3.44175},null,11,{"$f":"K17*$K$6","v":2.2945},3.53]
["Esponja dupla face. Material espuma/fibra sintética, formato retangular, comprimento mínimo 110 mm, largura mínima 75 mm, espessura mínima 20 mm. Aplicação na limpeza em geral","UN",{"$f":"D18*12","v":144},12,{"$f":"J18","v":0.3575},{"$f":"E18*D18","v":4.29},{"$f":"(F18/$E$62)","v":1.0725},null,12,{"$f":"K18*$K$6","v":0.3575},0.55]
["Esponja de fibras abrasivas para limpeza pesada. Possui coloração verde escura de abrasão intensa para utilização em superfícies que apresentam sujeiras persistentes tais como pisos, paredes, etc. Dimensões mínimas 130 x 240 mm","UN",{"$f":"D19*12","v":0},0,{"$f":"J19","v":0.65},{"$f":"E19*D19","v":0},{"$f":"(F19/$E$62)","v":0},null,13,{"$f":"K19*$K$6","v":0.65},1]
["Espanador de pó, cabo em madeira, comprimento cabo mínimo de 40 cm","UN",{"$f":"D20*12","v":19.9992},1.6666,{"$f":"J20","v":8.58},{"$f":"E20*D20","v":14.299428},{"$f":"(F20/$E$62)","v":3.574857},null,14,{"$f":"K20*$K$6","v":8.58},13.2]
["Flanela na cor laranja, 100% algodão, para uso geral. Tamanho mínimo 50 x 30 cm","UN",{"$f":"D21*12","v":480},40,{"$f":"J21","v":0.7475},{"$f":"E21*D21","v":29.9},{"$f":"(F21/$E$62)","v":7.475},null,15,{"$f":"K21*$K$6","v":0.7475},1.15]
["Desodorizador de ar 400 ml","FR 4OOML",{"$f":"D22*12","v":72},6,{"$f":"J22","v":5.785},{"$f":"E22*D22","v":34.71},{"$f":"(F22/$E$62)","v":8.6775},null,16,{"$f":"K22*$K$6","v":5.785},8.9]
["Pastilha Adesiva desinfetante para vaso sanitário","CX 3UN",{"$f":"D23*12","v":120},10,{"$f":"J23","v":3.575},{"$f":"E23*D23","v":35.75},{"$f":"(F23/$E$62)","v":8.9375},null,17,{"$f":"K23*$K$6","v":3.575},5.5]
["Limpa vidros spray, com pulverizador roscável em forma de gatilho e reapróveitavel. Composto a base de lauril éter sulfato de sódio. Frasco com 500ml","FR 5OOML",{"$f":"D24*12","v":36},3,{"$f":"J24","v":1.95},{"$f":"E24*D24","v":5.85},{"$f":"(F24/$E$62)","v":1.4625},null,18,{"$f":"K24*$K$6","v":1.95},3]
["Limpador multiuso e desengordurante para limpeza geral. Tampa tipo flip com bico dosador. Composição básica: alquil benzeno sulfonato de sódio, álcool etoxilado, coadjuvantes, água e conservante, fragrância. Frasco de 500ml","FR 5OOML",{"$f":"D25*12","v":144},12,{"$f":"J25","v":3.2435},{"$f":"E25*D25","v":38.922},{"$f":"(F25/$E$62)","v":9.7305},null,19,{"$f":"K25*$K$6","v":3.2435},4.99]
["Pá para lixo uso doméstico. Material coletor plástico, material cabo plástico, medindo no mínimo 40 cm","UN",{"$f":"D26*12","v":6},0.5,{"$f":"J26","v":3.315},{"$f":"E26*D26","v":1.6575},{"$f":"(F26/$E$62)","v":0.414375},null,20,{"$f":"K26*$K$6","v":3.315},5.1]
["Papel higiênico rolão. Rolos de 300 metros. Caixa com 8 rolos","CX 8RL",{"$f":"D27*12","v":168},14,{"$f":"J27","v":20.8},{"$f":"E27*D27","v":291.2},{"$f":"(F27/$E$62)","v":72.8},null,21,{"$f":"K27*$K$6","v":20.8},32]
["Rodo com cabo rosqueável. Material cabo plástico. Material suporte plástico ou metal com comprimento de 40 cm, cabo com no mínimo 1,20 cm. Quantidade de borrachas 2","UN",{"$f":"D28*12","v":12},1,{"$f":"J28","v":5.005},{"$f":"E28*D28","v":5.005},{"$f":"(F28/$E$62)","v":1.25125},null,22,{"$f":"K28*$K$6","v":5.005},7.7]
["Rodo para vidraça. Material base borracha. Comprimento cabo no mínimo 1,20 M, fixo ou retrátil. Tipo rodo. Aplicação limpeza vidro","UN",{"$f":"D29*12","v":0},0,{"$f":"J29","v":6.37},{"$f":"E29*D29","v":0},{"$f":"(F29/$E$62)","v":0},null,23,{"$f":"K29*$K$6","v":6.37},9.8]
["Sabão em barra 200 gr. Glicerinado, neutro, multiuso, biodegradável, para limpeza em geral","UN",{"$f":"D30*12","v":12},1,{"$f":"J30","v":0.78},{"$f":"E30*D30","v":0.78},{"$f":"(F30/$E$62)","v":0.195},null,24,{"$f":"K30*$K$6","v":0.78},1.2]
["Sabão em pó. Biodegradável, com amaciante. Aplicação lavar roupa e limpeza geral. Embalagem com 1 kg","1 KG",{"$f":"D31*12","v":24},2,{"$f":"J31","v":6.89},{"$f":"E31*D31","v":13.78},{"$f":"(F31/$E$62)","v":3.445},null,25,{"$f":"K31*$K$6","v":6.89},10.6]
["Sabonete líquido, fragrância, hidratante. Galão com 5 litros","GL 5L",{"$f":"D32*12","v":180},15,{"$f":"J32","v":7.93},{"$f":"E32*D32","v":118.95},{"$f":"(F32/$E$62)","v":29.7375},null,26,{"$f":"K32*$K$6","v":7.93},12.2]
["Saco plástico para lixo. Capacidade 40 litros, Cor preta. Largura mínima 59 cm e altura mínima 62 cm. Material polietileno. Para uso doméstico. Pacote com 100 unidades","PCT 100UN",{"$f":"D33*12","v":36},3,{"$f":"J33","v":8.3655},{"$f":"E33*D33","v":25.0965},{"$f":"(F33/$E$62)","v":6.274125},null,27,{"$f":"K33*$K$6","v":8.3655},12.87]
["Saco plástico para lixo. Capacidade 100 litros, Cor preta. Largura mínima 75 cm e altura mínima 100 cm. Material polietileno, opaco, super-resistente Aplicação coleta de lixo. Pacote com 100 unidades","PCT 100UN",{"$f":"D34*12","v":60},5,{"$f":"J34","v":12.35},{"$f":"E34*D34","v":61.75},{"$f":"(F34/$E$62)","v":15.4375},null,28,{"$f":"K34*$K$6","v":12.35},19]
["Saco plástico para lixo. Capacidade 150 litros, fabricado em plástico resistente, cor preta. Pacote com 100 unidades","PCT 100UN",{"$f":"D35*12","v":0},0,{"$f":"J35","v":16.4125},{"$f":"E35*D35","v":0},{"$f":"(F35/$E$62)","v":0},null,29,{"$f":"K35*$K$6","v":16.4125},25.25]
["Saco alvejado. Características: duplo, material 100% algodão, tipo alvejado, tamanho mínimo de 50 x 70 cm","UN",{"$f":"D36*12","v":360},30,{"$f":"J36","v":2.015},{"$f":"E36*D36","v":60.45},{"$f":"(F36/$E$62)","v":15.1125},null,30,{"$f":"K36*$K$6","v":2.015},3.1]
["Saponáceo Líquido cremoso, limpeza e brilho sem riscar. Composição: linear arquibenzeno, sulfonato de sódio. Embalagem de 300 ml","EMB 300ML",{"$f":"D37*12","v":60},5,{"$f":"J37","v":4.42},{"$f":"E37*D37","v":22.1},{"$f":"(F37/$E$62)","v":5.525},null,31,{"$f":"K37*$K$6","v":4.42},6.8]
["Toalha de papel. Cor creme. Composição: 100% fibras celulósicas. Toalha Interfolhas duas dobras. Formato: 19,5 cm x 20,5 cm. Pacote com 1000 unidades","PCT 1000UN",{"$f":"D38*12","v":3000},250,{"$f":"J38","v":4.355},{"$f":"E38*D38","v":1088.75},{"$f":"(F38/$E$62)","v":272.1875},null,32,{"$f":"K38*$K$6","v":4.355},6.7]
["Vassoura de nylon com cabo plástico. Com dimensões mínimas de 11cm e espessura de 0,80mm, dispostas em no mínimo de 4 carreiras de tufos justapostos e homogêneos de modo a preencher toda a base, a fixação das cerdas e a base deverá ser firme e resistente. Cabo reto e rosqueado com comprimento mínimo de 1,20 m. Aplicação limpeza em geral","UN",{"$f":"D39*12","v":36},3,{"$f":"J39","v":2.99},{"$f":"E39*D39","v":8.97},{"$f":"(F39/$E$62)","v":2.2425},null,33,{"$f":"K39*$K$6","v":2.99},4.6]
["Vassoura de palha com cabo. Material cerdas palha, material cabo madeira, comprimento cerdas no mínimo 60 cm. Cabo com comprimento mínimo de 1,20 m. Aplicação limpeza em geral","UN",{"$f":"D40*12","v":0},0,{"$f":"J40","v":3.965},{"$f":"E40*D40","v":0},{"$f":"(F40/$E$62)","v":0},null,34,{"$f":"K40*$K$6","v":3.965},6.1]
["Alcool etílico Liquido, 46º INPM","LT",{"$f":"D41*12","v":300},25,{"$f":"J41","v":3.7895},{"$f":"E41*D41","v":94.7375},{"$f":"(F41/$E$62)","v":23.684375},null,35,{"$f":"K41*$K$6","v":3.7895},5.83]
["Placas sinalizadoras “LIMPEZA EM ANDAMENTO” ","UN",{"$f":"D42*12","v":1.9992},0.1666,{"$f":"J42","v":13.6695},{"$f":"E42*D42","v":2.2773387},{"$f":"(F42/$E$62)","v":0.569334675},null,36,{"$f":"K42*$K$6","v":13.6695},21.03]
["Placas sinalizadoras “PISO MOLHADO” ","UN",{"$f":"D43*12","v":3},0.25,{"$f":"J43","v":13.6695},{"$f":"E43*D43","v":3.417375},{"$f":"(F43/$E$62)","v":0.85434375},null,37,{"$f":"K43*$K$6","v":13.6695},21.03]
["Pedra Sanitária - 25g","UN",{"$f":"D44*12","v":360},30,{"$f":"J44","v":0.494},{"$f":"E44*D44","v":14.82},{"$f":"(F44/$E$62)","v":3.705},null,38,{"$f":"K44*$K$6","v":0.494},0.76]
["Naftalina, pacote com 50 gr","PCT 50GR",{"$f":"D45*12","v":0},0,{"$f":"J45","v":1.95},{"$f":"E45*D45","v":0},{"$f":"(F45/$E$62)","v":0},null,39,{"$f":"K45*$K$6","v":1.95},3]
["Esponja abrasiva branca para enceradeira (compatível com a enceradeira a ser fornecida pela empresa)","UN",{"$f":"D46*12","v":0},0,{"$f":"J46","v":16.185},{"$f":"E46*D46","v":0},{"$f":"(F46/$E$62)","v":0},null,40,{"$f":"K46*$K$6","v":16.185},24.9]
["Rodo para aplicação de cera","UN",{"$f":"D47*12","v":0},0,{"$f":"J47","v":4.7905},{"$f":"E47*D47","v":0},{"$f":"(F47/$E$62)","v":0},null,41,{"$f":"K47*$K$6","v":4.7905},7.37]
["Detergente clorado alcalino. Líquido límpido viscoso de coloração amarelada e odor característico, composto pela mistura de substâncias nocivas como Hidróxido de Sódio (10-20%), Hipoclorito de Sódio 12% (20 - 30%). Apresenta pH básico (12,0-14,0), teor de cloro de 2,40 – 2,60 e densidade a 25ºC de 1,100 a 1,200. Este detergente é solúvel em água","GL 5L",{"$f":"D48*12","v":96},8,{"$f":"J48","v":5.785},{"$f":"E48*D48","v":46.28},{"$f":"(F48/$E$62)","v":11.57},null,42,{"$f":"K48*$K$6","v":5.785},8.9]
["Mop úmido tamanho grande","UN",{"$f":"D49*12","v":36},3,{"$f":"J49","v":6.175},{"$f":"E49*D49","v":18.525},{"$f":"(F49/$E$62)","v":4.63125},null,43,{"$f":"K49*$K$6","v":6.175},9.5]
["Mop para pó/seco tamanho grande","UN",{"$f":"D50*12","v":36},3,{"$f":"J50","v":13},{"$f":"E50*D50","v":39},{"$f":"(F50/$E$62)","v":9.75},null,44,{"$f":"K50*$K$6","v":13},20]
["Aplicador de cera 45 cm. Sistema de fixação mola-trava, que permite fácil colocação do cabo. O cabo em alumínio com sistema de angulação (180°) de 1,4m (conforme modelo do e-mail)","UN",{"$f":"D51*12","v":0},0,{"$f":"J51","v":13.5005},{"$f":"E51*D51","v":0},{"$f":"(F51/$E$62)","v":0},null,45,{"$f":"K51*$K$6","v":13.5005},20.77]
["Vinagre branco","LT",{"$f":"D52*12","v":0},0,{"$f":"J52","v":0.637},{"$f":"E52*D52","v":0},{"$f":"(F52/$E$62)","v":0},null,46,{"$f":"K52*$K$6","v":0.637},0.98]
["Alvejante para superfícies minerais e desincrustante ácido. Produto de Referência: Audax Concentrax Limpa Pedra O uso geral dele é limpeza de superfícies minerais e remoção de liga contendo cimento e areia. Ideal para calçadas de pedras, pisos rústicos, crostas de lama, pisos encardidos, pisos com respingos de concreto ou ferrugem e pisos de pedra em geral","GL 5L",{"$f":"D53*12","v":0},0,{"$f":"J53","v":13},{"$f":"E53*D53","v":0},{"$f":"(F53/$E$62)","v":0},null,47,{"$f":"K53*$K$6","v":13},20]
["Querosene","LT",{"$f":"D54*12","v":1.9992},0.1666,{"$f":"J54","v":11.7},{"$f":"E54*D54","v":1.94922},{"$f":"(F54/$E$62)","v":0.487305},null,48,{"$f":"K54*$K$6","v":11.7},18]
["Extensor telescópio para limpeza em altura, extensível de 2,5 a 5,0 metros, produzido em alumínio","UN",{"$f":"D55*12","v":72},6,{"$f":"J55","v":42.393},{"$f":"E55*D55","v":254.358},{"$f":"(F55/$E$62)","v":63.5895},null,49,{"$f":"K55*$K$6","v":42.393},65.22]
["Detergente para estofador e carpetes. Marca de referência carpex","GL 5L",{"$f":"D56*12","v":0},0,{"$f":"J56","v":12.285},{"$f":"E56*D56","v":0},{"$f":"(F56/$E$62)","v":0},null,50,{"$f":"K56*$K$6","v":12.285},18.9]
["Limpador de Rejuntes","GL 5L",{"$f":"D57*12","v":60},5,{"$f":"J57","v":9.75},{"$f":"E57*D57","v":48.75},{"$f":"(F57/$E$62)","v":12.1875},null,51,{"$f":"K57*$K$6","v":9.75},15]
["Cera auto brilho. Composição: água, agentes nivelantes, agente antiespumante, conservante, agente formador de filme, agentes plastificantes, resina, polímero acrílico. Produto de referência: Cera Durol (marca Briosol)","GL 5L",{"$f":"D58*12","v":0},0,{"$f":"J58","v":38.545},{"$f":"E58*D58","v":0},{"$f":"(F58/$E$62)","v":0},null,52,{"$f":"K58*$K$6","v":38.545},59.3]
["Limpador com Brilho. Limpador restaurador para renovação do brilho de pisos tratados com ceras, visando o aumento da vida útil do piso. Aroma Lavanda. Produto de Referência: Máxima Limpador com Brilho (marca Renko)","GL 5L",{"$f":"D59*12","v":0},0,{"$f":"J59","v":5.2975},{"$f":"E59*D59","v":0},{"$f":"(F59/$E$62)","v":0},null,53,{"$f":"K59*$K$6","v":5.2975},8.15]
["Removedor para acabamento acrílico – Detergente removedor concentrado para remoção de acabamentos acrílicos de base aquosa e ceras de pisos laváveis. Baixa formação de espuma e odor. Embalagem 5l para rendimento de até 50 m2. Produto de referência: Atiwax Removedor para Acabamento Acrílico (marca Renko)","GL 5L",{"$f":"D60*12","v":0},0,{"$f":"J60","v":71.89},{"$f":"E60*D60","v":0},{"$f":"(F60/$E$62)","v":0},null,54,{"$f":"K60*$K$6","v":71.89},110.6]
[null,null,null,null,"Total Func","Custo Total","Custo p/Func"]
[null,null,null,null,{"$f":"[1]Servente_SBentoSul!Y135","v":4},{"$f":"SUM(F7:F60)","v":2647.5662707},{"$f":"F62/E62","v":661.891567675}]

{"sheet":"Equipamento","index":4,"n_rows":14,"n_cols":6,"rows_kept":14,"cut":false,"hidden":false,"merged":[[0,0,0,5],[1,0,1,5],[2,0,3,5],[4,0,6,0],[4,1,6,1],[4,2,6,2],[4,3,6,3],[4,4,6,4],[4,5,6,5],[11,3,12,3],[11,4,12,4],[11,5,12,5]]}
["Planilha de Custos e Formação de Preços"]
[{"$f":"[1]Configurar!C7&\" - \"&[1]Configurar!D8&\" \"&[1]Configurar!Q8","v":"Processo Licitatório - Pregão Eletrônico 025/2021"}]
["Equipamentos - Campus São Bento do Sul"]
[]
["Descrição","Unidade","Quantidade","Valor Referência (por unidade)","Vida Útil em meses","Valor Depreciação mensal"]
[]
[]
["Aspirador de pó/água profissional – 2400W – 220V (com extensão elétrica e demais acessórios necessários)","UN",1,850,12,{"$f":"(D8*C8)/E8","v":70.8333333333333}]
["Lavadora de alta pressão com no mínimo 2200 libras e 1600W de potência – 220V (com extensão elétrica, mangueiras e demais acessórios necessários)","UN",1,1400,48,{"$f":"(D9*C9)/E9","v":29.1666666666667}]
["Enceradeira profissional 550 W – 220V (com extensão elétrica, fibras e demais acessórios necessários)","UN",0,1600,36,{"$f":"(D10*C10)/E10","v":0}]
["Carrinho mop (carro de limpeza com sistema de 2 águas, uma para solução limpadora e outra para água limpa)","UN",3,480,24,{"$f":"(D11*C11)/E11","v":60}]
[null,null,null,"Total Funcionário","Total Depreciação Mensal","Custo Funcionário"]
[]
[null,null,null,{"$f":"SBS!E142+SBS!E143","v":4},{"$f":"SUM(F8:F11)","v":160},{"$f":"E14/D14","v":40}]